BEGIN:VCALENDAR
VERSION:2.0
PRODID:-//Muirfield Riding Therapy - ECPv6.15.17.1//NONSGML v1.0//EN
CALSCALE:GREGORIAN
METHOD:PUBLISH
X-ORIGINAL-URL:https://www.muirfieldridingtherapy.org.uk
X-WR-CALDESC:Events for Muirfield Riding Therapy
REFRESH-INTERVAL;VALUE=DURATION:PT1H
X-Robots-Tag:noindex
X-PUBLISHED-TTL:PT1H
BEGIN:VTIMEZONE
TZID:Europe/London
BEGIN:DAYLIGHT
TZOFFSETFROM:+0000
TZOFFSETTO:+0100
TZNAME:BST
DTSTART:20240331T010000
END:DAYLIGHT
BEGIN:STANDARD
TZOFFSETFROM:+0100
TZOFFSETTO:+0000
TZNAME:GMT
DTSTART:20241027T010000
END:STANDARD
BEGIN:DAYLIGHT
TZOFFSETFROM:+0000
TZOFFSETTO:+0100
TZNAME:BST
DTSTART:20250330T010000
END:DAYLIGHT
BEGIN:STANDARD
TZOFFSETFROM:+0100
TZOFFSETTO:+0000
TZNAME:GMT
DTSTART:20251026T010000
END:STANDARD
BEGIN:DAYLIGHT
TZOFFSETFROM:+0000
TZOFFSETTO:+0100
TZNAME:BST
DTSTART:20260329T010000
END:DAYLIGHT
BEGIN:STANDARD
TZOFFSETFROM:+0100
TZOFFSETTO:+0000
TZNAME:GMT
DTSTART:20261025T010000
END:STANDARD
BEGIN:DAYLIGHT
TZOFFSETFROM:+0000
TZOFFSETTO:+0100
TZNAME:BST
DTSTART:20270328T010000
END:DAYLIGHT
BEGIN:STANDARD
TZOFFSETFROM:+0100
TZOFFSETTO:+0000
TZNAME:GMT
DTSTART:20271031T010000
END:STANDARD
END:VTIMEZONE
BEGIN:VEVENT
DTSTART;TZID=Europe/London:20251102T140000
DTEND;TZID=Europe/London:20251102T170000
DTSTAMP:20260419T185253
CREATED:20250808T002758Z
LAST-MODIFIED:20251017T150651Z
UID:107045-1762092000-1762102800@www.muirfieldridingtherapy.org.uk
SUMMARY:Accordion Concert with Leonard Brown
DESCRIPTION:Experience the magic of the accordion\, feel the energy and hear the passion: join award winning former All Scotland Accordion Champion Leonard Brown\, in Gullane Village Hall\, for an incredible Accordion Concert on Sunday 2nd November 2025!  \n  \nWe are delighted to welcome Leonard Brown to Gullane. Leonard is donating his talent in support of Muirfield Riding Therapy. Experience the versatility of the accordion as it explores a wide range of musical genres\, showcasing its expressive power. Listen to the music of ABBA\, Elton John\, The Beatles\, Glenn Miller and all Scottish favourites. Come and celebrate the beauty of live performance\, by former All Scotland Accordion Champion\, Leonard Brown. Tea and coffee will be provided during the interval and a Raffle will add to the entertainment\, with the Raffle being drawn at the end of the Concert. \nConcert Tickets: click here to buy tickets: £20  \n  \nAbout Leonard Brown\nLeonard Brown is one of the busiest accordion players in the country. He is in great demand as a solo performer\, band leader\, session musician and guest artiste at accordion and fiddle clubs throughout the country. \nLeonard first picked up an accordion at the age of eleven. He was an Irish dancer for four years from the age of seven with the McElvogue School of Irish Dancing and after winning 120 medals and 17 trophies\, he decided to retire and take up the accordion. \nHis dancing teacher’s sister\, Sheena McCaffrey gave Leonard his first lessons on piano accordion with the main focus being bellow movement and how the left hand operated. Leonard then went on to teach himself and took a keen interest in Scottish music through his hero\, the great Tom Alexander MBE from the famous Alexander Brothers. \nLeonard competed in October 2012 at the Perth Accordion and Fiddle Festival and won to became only the second Englishman to be crowned All Scotland Accordion Champion\, under the tutelage of Michael Philip. This is the creme de la creme of accordion competitions in Scotland and is a title that Leonard is very proud of. He was awarded the Jimmy Shand Shield by the adjudicator John Carmichael. \nLeonard has consequently played extensively across the United Kingdom as a soloist and with his band. He was also a member of the Happy Cats Folk Band from 2011 until they disbanded in 2017. \n\nLeonard has recorded a number of albums and his CDs and USBs will be available to purchase at the weekend with 50% of all CD revenue also going to the charity. Thank you Leonard!\n\n\n 
URL:https://www.muirfieldridingtherapy.org.uk/event/family-ceilidh-and-accordion-concert-weekend-with-leonard-brown/
LOCATION:Gullane Village Hall
ATTACH;FMTTYPE=image/jpeg:https://www.muirfieldridingtherapy.org.uk/wp-content/uploads/2025/08/Leonard-Brown-Ceilidh-2025.jpg
END:VEVENT
BEGIN:VEVENT
DTSTART;TZID=Europe/London:20251126T080000
DTEND;TZID=Europe/London:20260228T170000
DTSTAMP:20260419T185253
CREATED:20251126T114922Z
LAST-MODIFIED:20260124T101217Z
UID:107220-1764144000-1772298000@www.muirfieldridingtherapy.org.uk
SUMMARY:Buy a Bale Appeal
DESCRIPTION:Support our Winter Appeal\nHelp our ponies bring joy. Buy a bale this winter to add to our Hay Barn in our Centre reception and help make a difference to the lives of people with disabilities. \nOur 2025/26 winter appeal runs until 28th February 2026. It aims to share the positive impact our therapy ponies have for our participants\, and to raise funds to support our service\, which is offered free\, so it is accessible to all. \nClick here to Buy a Bale\n \n  \n 
URL:https://www.muirfieldridingtherapy.org.uk/event/buy-a-bale-appeal/
LOCATION:Muirfield Riding Therapy\, West Fenton\, North Berwick\, East Lothian\, EH39 5AL\, United Kingdom
ATTACH;FMTTYPE=image/jpeg:https://www.muirfieldridingtherapy.org.uk/wp-content/uploads/2025/11/Buy-A-Bale-Banner-high-res-scaled.jpg
END:VEVENT
BEGIN:VEVENT
DTSTART;TZID=Europe/London:20251206T100000
DTEND;TZID=Europe/London:20251206T120000
DTSTAMP:20260419T185253
CREATED:20250919T073711Z
LAST-MODIFIED:20250919T073711Z
UID:107120-1765015200-1765022400@www.muirfieldridingtherapy.org.uk
SUMMARY:Christmas Coffee Morning
DESCRIPTION:A Christmas date for your diary.\n\nDid you know\, our Christmas Coffee Morning has been running in the Village of Gullane since 2008?\nOriginally based at old The Mallard Hotel\, it even managed to continue over lockdown\, in an alternative format\, thanks to the hotel’s former owners Susan (our former Chair) and Cameron Law! We said a fond farewell to the old Mallard Hotel when it closed in 2021\, and have been based in Gullane Village Hall ever since\, with our tea tables\, festive gifts\, Christmas cakes and bakes\, Christmas Hamper and tombola.\n\nA warm welcome to all\, come and join us at Gullane Village Hall for our 17th Christmas Coffee Morning!\n\n Traditional Christmas Cakes Beautiful Christmas crafts & gifts Christmas Hamper Raffle Tombola Entry on the door £5 (Kids u16 free) – Tea/Coffee & mince pie included in entry\, come and sit at one of our tea tables\n\nOur wonderful volunteers are hard at work creating our legendary\, beautifully decorated Christmas Cakes to order\, and for sale at our Christmas Coffee Morning.
URL:https://www.muirfieldridingtherapy.org.uk/event/christmas-coffee-morning-2/
LOCATION:Gullane Village Hall
ATTACH;FMTTYPE=image/jpeg:https://www.muirfieldridingtherapy.org.uk/wp-content/uploads/2024/09/Christmas-cake-image-reduced-size.jpeg
END:VEVENT
BEGIN:VEVENT
DTSTART;TZID=Europe/London:20251207T160000
DTEND;TZID=Europe/London:20251207T180000
DTSTAMP:20260419T185253
CREATED:20251112T160619Z
LAST-MODIFIED:20251113T194706Z
UID:107167-1765123200-1765130400@www.muirfieldridingtherapy.org.uk
SUMMARY:An Afternoon of Christmas Music \, Dirleton Kirk
DESCRIPTION:All are welcome to join Muirfield Riding Therapy for our 4th annual Christmas event at historic Dirleton Kirk. A delightful afternoon celebration of classical and lighthearted Christmas music & song.\n  \nThis year\, local singers have come together to form a ‘Friends of MRT’ Choir especially for this event. They will be joined by a vocal ensemble made up of singers from the Borders Chamber Choir\, Edinburgh Festival Chorus & Chorus of the Royal Northern Sinfonia.\n  \nThere will also be carol singing to get you in the Christmas mood\, and please join us in the Kirk Hall afterwards for festive refreshments\n  \nBook your tickets here\n\nTickets to this event are £10 per person (+plus eventbrite fee)\, and must be pre-booked\n\n  \nThank you for your support\nOur life-changing therapy is free-of-charge\, to ensure it is accessible to all. Muirfield Riding Therapy\, a member group of RDA UK\, is a volunteer-led charity based at West Fenton\, East Lothian and has been providing its service to the community for 36 years. The charity receives no central funding and relies entirely on fundraising to raise the £175k+ needed annually to run the Centre which benefits so many. Thank you for your support\n  \n\nImportant information\n\nPre-booking is mandatory\, you do not need to bring your ticket\, we will add your name to our guest list on the night\nDirleton Kirk is wheelchair accessible\nFully accessible toilets available\nCancellation policy: in the unlikely event that this concert needs to be cancelled\, you will be advised by email\, and your ticket price will be refunded\, minus the eventbrite fee.\n\n\n\n\n\nPainting of Dirleton Kirk by kind permission of Scottish artist John Lowrie Morrison.
URL:https://www.muirfieldridingtherapy.org.uk/event/an-afternoon-of-christmas-music-dirleton-kirk/
LOCATION:Dirleton Kirk\, Manse Road\, Dirleton\, East Lothian\, EH39 5EL\, United Kingdom
ATTACH;FMTTYPE=image/jpeg:https://www.muirfieldridingtherapy.org.uk/wp-content/uploads/2025/11/Dirleton-Kirk.jpeg
END:VEVENT
BEGIN:VEVENT
DTSTART;TZID=Europe/London:20260131T190000
DTEND;TZID=Europe/London:20260131T230000
DTSTAMP:20260419T185253
CREATED:20251219T173024Z
LAST-MODIFIED:20251219T173024Z
UID:107267-1769886000-1769900400@www.muirfieldridingtherapy.org.uk
SUMMARY:A Hint of Scotland Quiz Night in aid of Muirfield Riding Therapy
DESCRIPTION:Join us at Gullane Village Hall and warm up with our 2nd annual winter Quiz Night on Saturday 31st January 2026!  Add a hint of Scottish fun to January with your friends\, all in aid of Muirfield Riding Therapy.\n\n\nBook your ‘Team of 6’\nHosts\, gather your friends (all guests must be 18 years+) and secure your team place! Tickets are sold as a ‘Team of 6’ @ £150 + £6 processing fee = £156 (Equivalent of £26 per person).\n\nClick here to book your Team\n\nNot only will you enjoy a 2-course Scottish supper\, but like last year\, we’ve taken inspiration from the best quizzes and game shows and rolled them into one fun evening of quiz entertainment! Expect a few surprises! Plus\, we’ll have a stocked Bar (this is not a BYOB event)\n\n\nWe look forward to having Gullane-based caterers Gloria and chef Craig\, cooking for us again. Please note the following information.\n\nImportant Dietary and Allergen information\n\nVegetarian option available\, please let us know your team’s preferences when booking\nPlease note\, we’re working with a small team and are unable to accommodate any changes or dietary requests.\nMay include Gluten\, Egg\, Dairy and Soya\nMay contain trace amounts of nuts or peanuts\n\n\n\nWe look forward to welcoming you on 31st January.
URL:https://www.muirfieldridingtherapy.org.uk/event/a-hint-of-scotland-quiz-night-in-aid-of-muirfield-riding-therapy/
LOCATION:Gullane Village Hall
ATTACH;FMTTYPE=image/jpeg:https://www.muirfieldridingtherapy.org.uk/wp-content/uploads/2025/12/Quiz-Hint-of-Scotland-2026.jpg
ORGANIZER;CN="MRT Events Team":MAILTO:events@muirfieldridingtherapy.org.uk
END:VEVENT
BEGIN:VEVENT
DTSTART;TZID=Europe/London:20260301T100000
DTEND;TZID=Europe/London:20260301T130000
DTSTAMP:20260419T185253
CREATED:20260201T102135Z
LAST-MODIFIED:20260211T230853Z
UID:107343-1772359200-1772370000@www.muirfieldridingtherapy.org.uk
SUMMARY:Fun Dog Show
DESCRIPTION:Entries are now open for our 9th annual Fun Dog Show fundraiser here at our Indoor Arena\n  \nAll sorts of classes for all sorts of dogs! Welcome to our 9th annual Fun Dog Show\, sponsored by Barker & Bone\, North Berwick Dogs and dog owners of all ages are welcome\, to our popular fundraiser at our Indoor Arena\, West Fenton. \n\nCLICK HERE TO ENTER ONLINE – Pre-book: all proceeds support Muirfield Riding Therapy\, just £3 (+ Eventbrite fee) per Class.\n\n\nWHAT TO EXPECT\n\n\nTRY OUR DOG AGILITY COURSE – great for dogs & handlers!\nROSETTES FOR ALL CLASSESS\nDOGGIE MERCHANDISE STALLS\nTOMBOLA & RAFFLE\nCAFE – bacon rolls\, legendary home baking\nTHANKS TO OUR MAIN SPONSOR\, Barker & Bone\, North Berwick who are providing prizes for our Champion of Champions and Reserve!\nPET PHOTOGRAPHER Gina from GG Photography on hand to capture images\n\n 
URL:https://www.muirfieldridingtherapy.org.uk/event/fun-dog-show-2/
LOCATION:Muirfield Riding Therapy\, West Fenton\, North Berwick\, East Lothian\, EH39 5AL\, United Kingdom
ATTACH;FMTTYPE=image/jpeg:https://www.muirfieldridingtherapy.org.uk/wp-content/uploads/2026/02/Fun-Dog-Show-wheelchair-pup-compressed.jpg
END:VEVENT
BEGIN:VEVENT
DTSTART;TZID=Europe/London:20260322T093000
DTEND;TZID=Europe/London:20260322T170000
DTSTAMP:20260419T185253
CREATED:20260201T110630Z
LAST-MODIFIED:20260211T230209Z
UID:107349-1774171800-1774198800@www.muirfieldridingtherapy.org.uk
SUMMARY:Dressage Show 2026
DESCRIPTION:Welcome to our 4th annual Dressage Show\, open to all ages and abilities. Enjoy a British Dressage experience in a relaxed\, friendly and encouraging atmosphere.\n\n\nThis Dressage Show is organised by and on behalf of Muirfield Riding Therapy to raise funds for therapy riding. Held at our Indoor Arena\, at West Fenton Farm\, EH39 5AL\, by kind permission of The Morrison Family.  The Show is generously sponsored by Caledonian Horticulture\, presenting The Irene Carter Memorial Shield to the Highest RDA Dressage Score. \nWhat to expect \n\nHighest score rosettes will be presented to the highest score in classes 1-4 and classes 5-6.\nOutdoor warm up and indoor test for all classes.\nClasses 5 and 6 – able bodied riders will warm up on grass\, RDA riders will warm up in the outdoor school.\nClass numbers may be limited to ensure completion of the show at a reasonable time.\nAll proceeds support Muirfield Riding Therapy\, thank you.\nCafe serving tea/coffee\, soup\, bacon rolls\, filled rolls and home baking\, in our cozy Viewing Gallery.\n\n\n\nENTRIES\nEnter HERE on Horse Monkey. Closing date is Wednesday 18th March at 23:45. No late entries. Times will be available on Friday 14th March on Horse Monkey\n\n  \n\n\nTESTS\n\n\nClass 1: British Dressage Introductory 1 (2024) for new riders to dressage not to have been placed in any dressage test. \nClass 2 : British Dressage Introductory 2 (2024) for riders not to have won more than 3 walk / trot tests or any Prelim or above tests.\nClass 3 : British Dressage Preliminary 1 (2024) horse & rider combinations not to have won 3 firsts at Prelim level or above.\nClass 4 : British Dressage Preliminary 2 (2024) horse / riders combinations not to have been placed 1st to 3rd at Novice level or above.\nClass 5 : RDA Introduction to Dressage Test 3 (2016) Walk or Walk / Trot – for riders on a lead rein under 12yo\, or a disabled person of any age.\nClass 6 : RDA Introduction to Dressage Test 3 (2016) Walk or Walk / Trot – for riders off the lead rein including disabled riders.\n\n\n  \n\n\n\nRULES\n\n1. All horses / ponies to be aged 4 years and over. \n2. Horses may not be entered in more than 3 classes / 2 tests per rider. \n3. No British Dressage points. \n4. Dogs must be on a lead at all times and kept away from any horse / pony. \n5. This competition is run under British Dressage and RDA rules\, back numbers will be supplied if necessary. \n6. A hard hat to PASO15 (2011)\, ASTM F1163 (2004)\, AS/NZS 3838 (2006) and WHICH MUST ALSO BE ACCOMPANIED BY THE RESPECTIVE OFFICIAL KITEMARK. The chin strap must have a non-detachable retaining harness secured to the shell at more than two points. Any rider found to be using a hat to a lower specification will be disqualified. \n7. Neither the organisers of this event\, nor any person acting on thier behalf\, the owners of the showground or agents acting on their behalf\, accept any liability for the loss\, damage\, injury or illness to horses\, riders\, spectators or any other persons or property whatsoever. Riders should have their own third party insurance (MRT riders are covered by RDA insurance) \n8. Rosettes 1st to 6th place in all classes. \n9. Closing date is Wednesday 18th March at 23:45. No late entries. Times will be available on Friday 14th March on Horse Monkey. \n10. The judge’s decision is final. Any complaints must be made in writing to the secretary accompanied by £20 and the complaintmust be made within one hour of the incident. \n11. Entry fees will only be reufnded if the show is cancelled. An administration fee may be taken from each competitor. No refunds after the closing date. \n12. Dressage tests may be read. \n13. Cantering is allowed only in the practice and competition areas. \n14. The organisers reserve the right to combine or split classes according to entries with results determinded on a percentage basis. \n15. There will be a limited number of entries available in each class. \n16. We ask that the horses are fully vaccinated against equine flu\, within the last 12 months\, and that passports be available for inspection by an MRT official random checks will be made. \n17. Dress code is jodphurs\, shirt and dark jacket / blazer. Refer to British Dressage Rulebook 2025 page 123-130. \n18. The venue\, including the parking area must be left clean and tidy. Please ensure you remove all hay / droppings / litter etc.  \n19. BD tests are available from\, \nBritish Dressage  \nRDA tests available from\, \nDressage Diagrams \nRDA test is included in this schedule\, press ‘Download schedule’. \n20. Results will be available on Horse Monkey. \n21. Catering will be available from the wonderful MRT cafe. \n22. Photographer TBC \n22. Any queries/questions please contact the Event Secretary – dswhiteford@googlemail.com  /  07717 495082
URL:https://www.muirfieldridingtherapy.org.uk/event/dressage-show-2026/
LOCATION:Muirfield Riding Therapy\, West Fenton\, North Berwick\, East Lothian\, EH39 5AL\, United Kingdom
ATTACH;FMTTYPE=image/jpeg:https://www.muirfieldridingtherapy.org.uk/wp-content/uploads/2026/02/Dressage-Show-Logo-for-web.jpg
END:VEVENT
BEGIN:VEVENT
DTSTART;TZID=Europe/London:20260328T150000
DTEND;TZID=Europe/London:20260328T210000
DTSTAMP:20260419T185253
CREATED:20260201T094404Z
LAST-MODIFIED:20260224T231816Z
UID:107335-1774710000-1774731600@www.muirfieldridingtherapy.org.uk
SUMMARY:Annual Spring Fundraising Gala 2026: Bubbles\, Beats & Afternoon Treats
DESCRIPTION:Our annual Spring Gala Fundraiser has become a hotly anticipated event in East Lothian’s social calendar and is a major fundraiser for us each year.\n  \nGathering for Good\nWe’re known for bringing new\, fresh fun with our fundraisers\, and for 2026 we’re excited to present\, ‘Bubbles\, Beats and Afternoon Treats’ at the iconic Marine\, North Berwick\, on Saturday 28th March 2026\, sponsored by Thorntons \nThink day fever disco\, gourmet afternoon tea\, cocktails and more. We can guarantee an incredible event\, with lots of our usual twists and surprises. All this\, and home tucked up in bed by 10pm. \n  \nTogether we can transform lives\nJoin us\, hear from those most impacted by our service\, and help our ponies continue to bring joy to people with disabilities and their families. \n \nInterested?\nUpdate: just 2 tables remain\, please contact Elaine events@muirfieldridingtherapy.org.uk \nEnjoy a Sparkling Reception & Gourmet Afternoon Tea\, DJ with dance floor fillers from 80’s\, 90’s and 00’s\nand lots of fabulous surprises \nTickets £75 per person / £750 table of 10
URL:https://www.muirfieldridingtherapy.org.uk/event/annual-spring-fundraising-gala-2026-bubbles-beats-afternoon-treats/
LOCATION:Marine North Berwick\, 18 Cromwell Road\, North Berwick\, East Lothian\, EH39 4LZ\, United Kingdom
ATTACH;FMTTYPE=image/png:https://www.muirfieldridingtherapy.org.uk/wp-content/uploads/2026/02/Spring-Gala-Bubbles-image-for-photobooth-scaled.png
ORGANIZER;CN="MRT Events Team":MAILTO:events@muirfieldridingtherapy.org.uk
END:VEVENT
BEGIN:VEVENT
DTSTART;TZID=Europe/London:20260507T120000
DTEND;TZID=Europe/London:20260507T210000
DTSTAMP:20260419T185253
CREATED:20260201T142247Z
LAST-MODIFIED:20260307T140937Z
UID:107366-1778155200-1778187600@www.muirfieldridingtherapy.org.uk
SUMMARY:An invitation to the 2026 Muirfield Riding Therapy Charity Golf Day\, The Renaissance Club
DESCRIPTION:You are invited to our biennial Charity Golf Day 2026\, held on Thursday 7th May\, and hosted at prestigious The Renaissance Club\, home to The Genesis Scottish Open. \nBring your clients and friends to enjoy our exclusive 4-Ball stableford competition and we guarantee an incredible afternoon of golf\, with surprises on and off the course\, and relaxed gourmet BBQ buffet dining to finish. This is one of only a few opportunities for non-members to play this incredible links course and it is the only one taking place before a world-class field gathers in July for the Genesis Scottish Open 2026.  \nYou’ll be supporting a charity that quite literally changes lives every day. See our Invitation below for full details. \nSponsorship packages\n\n\n\n\nWe have a variety of sponsorship packages available. We are a proud chosen charity of The Renaissance Club Charitable Foundation.  By sponsoring or taking part in our Charity Golf Day\, you’ll help fund a charity that truly changes lives for children and adults with additional needs – and the families who support them. We receive no state funding; every rider\, session and breakthrough is made possible by the generosity of our supporters. And the impact is profound; through equine-assisted therapy and education\, we’ve seen riders regain mobility\, confidence\, speech and independence. Children improve school attendance and performance. For many\, Muirfield Riding Therapy is more than therapy – it’s hope.  Please contact our Fundraising Manager Debs McLaughlin for more information. \nInvitation & Booking\nFor full details\, and to book one of our coveted team places\, please click the link below and complete our online form. \nClick here for full details and our booking form\n \n 
URL:https://www.muirfieldridingtherapy.org.uk/event/muirfield-riding-therapy-charity-golf-day-renaissance-club-2026/
LOCATION:The Renaissance Club\, Cowden Hill\, North Berwick\, East Lothian\, EH39 5HS
ATTACH;FMTTYPE=image/png:https://www.muirfieldridingtherapy.org.uk/wp-content/uploads/2026/02/Charity-Golf-Day-Renaissance-Flag-e1773008531785.png
END:VEVENT
BEGIN:VEVENT
DTSTART;TZID=Europe/London:20260613T180000
DTEND;TZID=Europe/London:20260613T213000
DTSTAMP:20260419T185253
CREATED:20260201T115011Z
LAST-MODIFIED:20260203T114334Z
UID:107358-1781373600-1781386200@www.muirfieldridingtherapy.org.uk
SUMMARY:Big Barn Dance 2026
DESCRIPTION:DATE FOR YOUR DIARY. A little bit County\, a little bit Ceilidh\, a lot of Fun! Come and celebrate the summer at our 5th annual Big Barn Dance here at our Indoor Arena on Saturday 13th June\, 6-9.30pm! All proceeds support Muirfield Riding Therapy\n\n\nOne of the busiest and most popular ceilidh bands in Scotland\, Clappy Doo\, will be back. Experienced caller Graeme will ensure you have fun\, and Line Dancing Instructor Hazel will be taking you through your paces.\n\n\nBOOKING OPENING HERE SOON – ALL TICKETS MUST BE PRE-BOOKED – keep an eye here and on our social media\n\nWhat to expect\n\n\nExperienced line dancing instructor\, Heather Baxter will be taking you through your paces\, and this year you can also learn a dance to Luke Combs\nStrip the Willow. Burn the Floor! No experience needed \, just turn up and dance\, supported by experienced Ceilidh caller Graeme from Clappy Doo\nBar – with a stocked Bar (this isn’t a byob event) we’ll have beer\, wine\, fizz\, cans of cocktails\, plus non-alcoholic beer\, soft drinks and snacks to buy all night.\nGames – there’ll be lots of themed games to keep everyone entertained!\nRaffle – our prize for this year will be announced soon!\n\n\nUseful info\n\nBe sure to wear your dancing boots – cowboy\, wellies\, riding boots – as our Arena surface gets very messy. Get dressed up and show us your Country style!\nGet your friends\, family together. All ages welcome – under 18s must be accompanied by a parent/guardian 18+\n\n\nMake a night of it\nOur Indoor Arena\, West Fenton\, EH39 5AL is approx one mile inland from the village of Gullane. We are not on a bus route. You may want to book your taxi in advance\, there are plenty of local taxi firms. If you want to continue your evening afterwards\, you might like to visit one of the local bars in Gullane including The Mallard\, The Bonnie Badger\, and The Old Clubhouse\n\n\nSupporting Muirfield Riding Therapy\nAll proceeds support the work of Muirfield Riding Therapy (MRT); you will be directly helping our therapy ponies bring joy\, and making a difference to the lives of people with disabilities. The charity is a Volunteer-led Centre\, providing pioneering\, life-changing equine facilitated therapy\, free of charge. Our Centre was built by the community\, is run by the community\, for the benefit of members of the community. We receive no central funding. It is only through the generosity of individuals and organisations\, and fundraising events like this one\, that it is able to raise the £200\,000+ it costs\, per year\, to fund the centre and its activities which benefit so many. Thank you for your support.
URL:https://www.muirfieldridingtherapy.org.uk/event/big-barn-dance-2026/
LOCATION:Muirfield Riding Therapy\, West Fenton\, North Berwick\, East Lothian\, EH39 5AL\, United Kingdom
ATTACH;FMTTYPE=image/jpeg:https://www.muirfieldridingtherapy.org.uk/wp-content/uploads/2025/04/Big-Barn-Dance-header-image-2025.jpg
ORGANIZER;CN="MRT Events Team":MAILTO:events@muirfieldridingtherapy.org.uk
END:VEVENT
BEGIN:VEVENT
DTSTART;TZID=Europe/London:20260719T090000
DTEND;TZID=Europe/London:20260719T170000
DTSTAMP:20260419T185253
CREATED:20260201T121942Z
LAST-MODIFIED:20260201T121942Z
UID:107361-1784451600-1784480400@www.muirfieldridingtherapy.org.uk
SUMMARY:Summer Show for Horses & Ponies 2026
DESCRIPTION:Date for your Diary. This year is our 18th Annual Summer Show for Horses & Ponies\, organised for and on behalf of Muirfield Riding Therapy\, held at West Fenton with kind permission of The Morrison Family.\nSunday 19th July 2025. One of East Lothian’s largest horse Shows\, with 48 Classes over 7 Rings –\n  \n\nShow Jumping (Ring Sponsor: TBC)\nMountain & Moorland (Championship Sponsor: TBC)\nVeterans & Coloured (Championship Sponsor: TBC)\nWorking Hunter (Championship Sponsor: TBC)\nRidden (Championship Sponsor: TBC)\nHandy Pony\nShow Classes\nFun Classes\nClear Round\n\n  \nEntries will be via Horse Monkey – keep an eye on here and our social media for our launch date.
URL:https://www.muirfieldridingtherapy.org.uk/event/summer-show-for-horses-ponies-2026/
LOCATION:Muirfield Riding Therapy\, West Fenton\, North Berwick\, East Lothian\, EH39 5AL\, United Kingdom
ATTACH;FMTTYPE=image/jpeg:https://www.muirfieldridingtherapy.org.uk/wp-content/uploads/2026/02/Summer-Show-2024-WH-jummp-image-2.jpg
ORGANIZER;CN="MRT Summer Show Team":MAILTO:entries@muirfieldridingtherapy.org.uk
END:VEVENT
END:VCALENDAR