BEGIN:VCALENDAR
VERSION:2.0
PRODID:-//Muirfield Riding Therapy - ECPv6.15.17.1//NONSGML v1.0//EN
CALSCALE:GREGORIAN
METHOD:PUBLISH
X-ORIGINAL-URL:https://www.muirfieldridingtherapy.org.uk
X-WR-CALDESC:Events for Muirfield Riding Therapy
REFRESH-INTERVAL;VALUE=DURATION:PT1H
X-Robots-Tag:noindex
X-PUBLISHED-TTL:PT1H
BEGIN:VTIMEZONE
TZID:Europe/London
BEGIN:DAYLIGHT
TZOFFSETFROM:+0000
TZOFFSETTO:+0100
TZNAME:BST
DTSTART:20240331T010000
END:DAYLIGHT
BEGIN:STANDARD
TZOFFSETFROM:+0100
TZOFFSETTO:+0000
TZNAME:GMT
DTSTART:20241027T010000
END:STANDARD
BEGIN:DAYLIGHT
TZOFFSETFROM:+0000
TZOFFSETTO:+0100
TZNAME:BST
DTSTART:20250330T010000
END:DAYLIGHT
BEGIN:STANDARD
TZOFFSETFROM:+0100
TZOFFSETTO:+0000
TZNAME:GMT
DTSTART:20251026T010000
END:STANDARD
BEGIN:DAYLIGHT
TZOFFSETFROM:+0000
TZOFFSETTO:+0100
TZNAME:BST
DTSTART:20260329T010000
END:DAYLIGHT
BEGIN:STANDARD
TZOFFSETFROM:+0100
TZOFFSETTO:+0000
TZNAME:GMT
DTSTART:20261025T010000
END:STANDARD
END:VTIMEZONE
BEGIN:VEVENT
DTSTART;TZID=Europe/London:20251005T100000
DTEND;TZID=Europe/London:20251005T140000
DTSTAMP:20260419T153722
CREATED:20250808T001355Z
LAST-MODIFIED:20250808T001355Z
UID:107041-1759658400-1759672800@www.muirfieldridingtherapy.org.uk
SUMMARY:Big Indoor Market 2025
DESCRIPTION:Welcome everyone to our 7th Annual Big Indoor Market\, here in our spacious\, Indoor Arena at West Fenton\, EH39 5AL\, on Sunday 5th October 10am – 2pm. Live Music\, cafe\, and 50 stalls of crafters\, producers\, vintage & car boot-ers! A great mix of local\, independent talent\, all under one roof.\n\nCheck out our video here for a little look at previous Big Indoor Markets!\n\n\nAll welcome – £2 entry on the door\, free entry for children under 16\, and free parking.\nWell behaved dogs on leads also welcome\nCome and have lunch at The Barn Cafe\, hot rolls\, soup\, filled rolls\, and why not take home some of our legendary baking treats too?\nEnjoy live music while you browse\nTo help our visitors who are wheelchair users to access our soft Arena floor\, our friends from Beach Wheelchairs North Berwick will have two of their manual chairs here for your use.\n\n\nAll proceeds support Muirfield Riding Therapy\, a volunteer-led Centre providing pioneering life-changing equine facilitated therapy\, free. We are a member group of RDA UK. By supporting this event you are helping us transform lives\, thank you.
URL:https://www.muirfieldridingtherapy.org.uk/event/big-indoor-market-2025/
LOCATION:Muirfield Riding Therapy\, West Fenton\, North Berwick\, East Lothian\, EH39 5AL\, United Kingdom
ATTACH;FMTTYPE=image/jpeg:https://www.muirfieldridingtherapy.org.uk/wp-content/uploads/2024/05/Big-Indoor-Market-FB-logo-e1754600973151.jpeg
ORGANIZER;CN="MRT Events Team":MAILTO:events@muirfieldridingtherapy.org.uk
END:VEVENT
BEGIN:VEVENT
DTSTART;TZID=Europe/London:20251019T093000
DTEND;TZID=Europe/London:20251019T170000
DTSTAMP:20260419T153722
CREATED:20250919T074727Z
LAST-MODIFIED:20250919T074814Z
UID:107128-1760866200-1760893200@www.muirfieldridingtherapy.org.uk
SUMMARY:Winter Series Show Jumping Championships 2025: Event #2 October
DESCRIPTION:Our long running Winter Series Show Jumping Championships is back for its 18th year. 4 events in the Series;\nSundays 28th September\, 19th October\, 16th November\, 7th December.\n  \nOPEN TO ALL AGES OF EQUESTRIANS\, MINIS to ADULT! ATTEND ONE\, SOME OR ALL 4 EVENTS IN THE SERIES! \n  \nThe Series is all about promoting confidence\, and especially encourages novice/ inexperienced riders / equines of ALL AGES. Benefit from an all-round professional Show Jumping experience\, but in a relaxed\, friendly\, encouraging atmosphere. \n  \nEVENT 2: OCTOBER EVENT ENTRY and CLASS SCHEDULE\nThere are 10 Classes in each event – click here to ENTER via horse monkey.com\, and for schedule \n✅ Pre entry online £6 per class\, closes the Friday prior to each event at 1pm\, via horse monkey\n✅ On-the-day entries £8 per Class \n\nClear Round £4 (buy one round get one free!) on-the-day\nOur Judges will be happy to give guidance and encouragement to all riders (and equines too!) where and when appropriate\nThere is a points system so if you and your equine would like to be in with a shout of winning one of our three trophies\, then we recommend attending all four events. Alternatively\, just come and have fun.\n\n\nOur three Championship Trophies\n\nWobblies Trophy. Presented to the rider/pony/horse combination which has accrued the most points from classes 1-4\nThe Fiona Mossan Trophy. Presented to the rider/pony/horse combination which has accrued the most points from classes 5-9\nThe Niven Family Trophy. Presented to the most improved rider of the Series\n\n  \nOur Cafe will be running all day with hot and cold food and drinks! \nQueries/weather check: entries@muirfieldridingtherapy.org.uk \n  \nThank you\nAll proceeds support Muirfield Riding Therapy so by signing up to this event you’re doing good too! Thank you \n  \n#showjumping #horses #ponies #equestrian #eastlothian #competition #eastlothian
URL:https://www.muirfieldridingtherapy.org.uk/event/winter-series-show-jumping-championships-2025-event-2-october/
LOCATION:Muirfield Riding Therapy\, West Fenton\, North Berwick\, East Lothian\, EH39 5AL\, United Kingdom
ATTACH;FMTTYPE=image/jpeg:https://www.muirfieldridingtherapy.org.uk/wp-content/uploads/2024/08/IMG_5285.jpeg
ORGANIZER;CN="Winter Series Show Jumping Team":MAILTO:entries@muirfieldridingtherapy.org.uk
END:VEVENT
BEGIN:VEVENT
DTSTART;TZID=Europe/London:20251025T193000
DTEND;TZID=Europe/London:20251025T211500
DTSTAMP:20260419T153722
CREATED:20250829T151218Z
LAST-MODIFIED:20250829T151218Z
UID:107102-1761420600-1761426900@www.muirfieldridingtherapy.org.uk
SUMMARY:Pottery Paint & Sip at Dukes of West Barns
DESCRIPTION:Our partnership with the fabulous Dukes of West Barns continues\, with a very popular ‘Paint & Sip’ evening being held in aid of Muirfield Riding Therapy.\n\n\nJoin us at Dukes on Saturday 25th October 2025\, 7.30pm – 9.15pm\, bring your friends\, and a bottle too – this event is BYOB!\n  \nRobyn\, owner of Dukes says\,\n\n\nEuan has made the most delightful ceramic wine goblets for this special fundraising workshop. During the session\, you’ll get the chance to experiment with beautiful underglazes to add pattern and colour to your own goblet.  They will then be fired and ready to collect a week later. This event is part of our efforts across the year to raise vital funds and awareness for Muirfield Riding Therapy. It is BYOB so you’ll be able to enjoy your favourite tipple! Delicious nibbles will be provided. \n\n\n\n\nBook your space now: click here – a non refundable deposit of £16 is required to secure a space. The remaining £30 can then be paid on the night and this will go directly to Muirfield Riding Therapy.
URL:https://www.muirfieldridingtherapy.org.uk/event/pottery-paint-sip-at-dukes-of-west-barns/
LOCATION:East Lothian
ATTACH;FMTTYPE=image/jpeg:https://www.muirfieldridingtherapy.org.uk/wp-content/uploads/2025/08/Dukes-Paint-and-Sip-Oct-2025.jpg
END:VEVENT
END:VCALENDAR