BEGIN:VCALENDAR
VERSION:2.0
PRODID:-//Muirfield Riding Therapy - ECPv6.15.17.1//NONSGML v1.0//EN
CALSCALE:GREGORIAN
METHOD:PUBLISH
X-ORIGINAL-URL:https://www.muirfieldridingtherapy.org.uk
X-WR-CALDESC:Events for Muirfield Riding Therapy
REFRESH-INTERVAL;VALUE=DURATION:PT1H
X-Robots-Tag:noindex
X-PUBLISHED-TTL:PT1H
BEGIN:VTIMEZONE
TZID:Europe/London
BEGIN:DAYLIGHT
TZOFFSETFROM:+0000
TZOFFSETTO:+0100
TZNAME:BST
DTSTART:20240331T010000
END:DAYLIGHT
BEGIN:STANDARD
TZOFFSETFROM:+0100
TZOFFSETTO:+0000
TZNAME:GMT
DTSTART:20241027T010000
END:STANDARD
BEGIN:DAYLIGHT
TZOFFSETFROM:+0000
TZOFFSETTO:+0100
TZNAME:BST
DTSTART:20250330T010000
END:DAYLIGHT
BEGIN:STANDARD
TZOFFSETFROM:+0100
TZOFFSETTO:+0000
TZNAME:GMT
DTSTART:20251026T010000
END:STANDARD
BEGIN:DAYLIGHT
TZOFFSETFROM:+0000
TZOFFSETTO:+0100
TZNAME:BST
DTSTART:20260329T010000
END:DAYLIGHT
BEGIN:STANDARD
TZOFFSETFROM:+0100
TZOFFSETTO:+0000
TZNAME:GMT
DTSTART:20261025T010000
END:STANDARD
BEGIN:DAYLIGHT
TZOFFSETFROM:+0000
TZOFFSETTO:+0100
TZNAME:BST
DTSTART:20270328T010000
END:DAYLIGHT
BEGIN:STANDARD
TZOFFSETFROM:+0100
TZOFFSETTO:+0000
TZNAME:GMT
DTSTART:20271031T010000
END:STANDARD
END:VTIMEZONE
BEGIN:VEVENT
DTSTART;TZID=Europe/London:20251102T140000
DTEND;TZID=Europe/London:20251102T170000
DTSTAMP:20260419T171416
CREATED:20250808T002758Z
LAST-MODIFIED:20251017T150651Z
UID:107045-1762092000-1762102800@www.muirfieldridingtherapy.org.uk
SUMMARY:Accordion Concert with Leonard Brown
DESCRIPTION:Experience the magic of the accordion\, feel the energy and hear the passion: join award winning former All Scotland Accordion Champion Leonard Brown\, in Gullane Village Hall\, for an incredible Accordion Concert on Sunday 2nd November 2025!  \n  \nWe are delighted to welcome Leonard Brown to Gullane. Leonard is donating his talent in support of Muirfield Riding Therapy. Experience the versatility of the accordion as it explores a wide range of musical genres\, showcasing its expressive power. Listen to the music of ABBA\, Elton John\, The Beatles\, Glenn Miller and all Scottish favourites. Come and celebrate the beauty of live performance\, by former All Scotland Accordion Champion\, Leonard Brown. Tea and coffee will be provided during the interval and a Raffle will add to the entertainment\, with the Raffle being drawn at the end of the Concert. \nConcert Tickets: click here to buy tickets: £20  \n  \nAbout Leonard Brown\nLeonard Brown is one of the busiest accordion players in the country. He is in great demand as a solo performer\, band leader\, session musician and guest artiste at accordion and fiddle clubs throughout the country. \nLeonard first picked up an accordion at the age of eleven. He was an Irish dancer for four years from the age of seven with the McElvogue School of Irish Dancing and after winning 120 medals and 17 trophies\, he decided to retire and take up the accordion. \nHis dancing teacher’s sister\, Sheena McCaffrey gave Leonard his first lessons on piano accordion with the main focus being bellow movement and how the left hand operated. Leonard then went on to teach himself and took a keen interest in Scottish music through his hero\, the great Tom Alexander MBE from the famous Alexander Brothers. \nLeonard competed in October 2012 at the Perth Accordion and Fiddle Festival and won to became only the second Englishman to be crowned All Scotland Accordion Champion\, under the tutelage of Michael Philip. This is the creme de la creme of accordion competitions in Scotland and is a title that Leonard is very proud of. He was awarded the Jimmy Shand Shield by the adjudicator John Carmichael. \nLeonard has consequently played extensively across the United Kingdom as a soloist and with his band. He was also a member of the Happy Cats Folk Band from 2011 until they disbanded in 2017. \n\nLeonard has recorded a number of albums and his CDs and USBs will be available to purchase at the weekend with 50% of all CD revenue also going to the charity. Thank you Leonard!\n\n\n 
URL:https://www.muirfieldridingtherapy.org.uk/event/family-ceilidh-and-accordion-concert-weekend-with-leonard-brown/
LOCATION:Gullane Village Hall
ATTACH;FMTTYPE=image/jpeg:https://www.muirfieldridingtherapy.org.uk/wp-content/uploads/2025/08/Leonard-Brown-Ceilidh-2025.jpg
END:VEVENT
BEGIN:VEVENT
DTSTART;TZID=Europe/London:20251126T080000
DTEND;TZID=Europe/London:20260228T170000
DTSTAMP:20260419T171416
CREATED:20251126T114922Z
LAST-MODIFIED:20260124T101217Z
UID:107220-1764144000-1772298000@www.muirfieldridingtherapy.org.uk
SUMMARY:Buy a Bale Appeal
DESCRIPTION:Support our Winter Appeal\nHelp our ponies bring joy. Buy a bale this winter to add to our Hay Barn in our Centre reception and help make a difference to the lives of people with disabilities. \nOur 2025/26 winter appeal runs until 28th February 2026. It aims to share the positive impact our therapy ponies have for our participants\, and to raise funds to support our service\, which is offered free\, so it is accessible to all. \nClick here to Buy a Bale\n \n  \n 
URL:https://www.muirfieldridingtherapy.org.uk/event/buy-a-bale-appeal/
LOCATION:Muirfield Riding Therapy\, West Fenton\, North Berwick\, East Lothian\, EH39 5AL\, United Kingdom
ATTACH;FMTTYPE=image/jpeg:https://www.muirfieldridingtherapy.org.uk/wp-content/uploads/2025/11/Buy-A-Bale-Banner-high-res-scaled.jpg
END:VEVENT
END:VCALENDAR